BEGIN:VCALENDAR
VERSION:2.0
PRODID:-//wp-events-plugin.com//7.2.3.1//EN
TZID:Europe/London
X-WR-TIMEZONE:Europe/London
BEGIN:VEVENT
UID:77@tecbar.org
DTSTART;TZID=Europe/London:20260219T170000
DTEND;TZID=Europe/London:20260219T183000
DTSTAMP:20260208T092326Z
URL:https://tecbar.org/event/outreach-event-pupillage-interview-tips/
SUMMARY:Outreach event: Pupillage Interview Tips
DESCRIPTION:The third in the Combar - The Commercial Bar Association\, Chan
 cery Bar Association and TECBAR series of online events for aspiring pupil
 s will be focussing on the pupillage interview process.\n\nAttendees will 
 hear from a panel of Commercial\, Chancery and Construction barristers dis
 cussing the interview stage of pupillage applications and providing their 
 tips on how to develop and hone your skills before your first pupillage in
 terview. This session will offer guidance on some "dos and don’ts" and p
 rovide some guidance on how to impress your interviewers.\n\nPanellists:\n
 \n 	Brenna Conroy – Keating Chambers\n 	Judy Fu – 3 Verulam Buildings\
 n 	Niamh Davies – XXIV Old Buildings\n 	Suzanne Ter-Minassian – Serle
  Court\n\nThis online event will start at 5pm. The event will run for one 
 hour to 6pm with a Q&amp\;A chat function enabling questions to be taken b
 y the panellists.\n\nA ZOOM link will be circulated to participants on the
  day.\n\nPlease register here.
END:VEVENT
BEGIN:VTIMEZONE
TZID:Europe/London
X-LIC-LOCATION:Europe/London
BEGIN:STANDARD
DTSTART:20251026T010000
TZOFFSETFROM:+0100
TZOFFSETTO:+0000
TZNAME:GMT
END:STANDARD
END:VTIMEZONE
END:VCALENDAR